BEGIN:VCALENDAR
VERSION:2.0
PRODID:-//Psychoanalytische Arbeitsgemeinschaft Köln-Düsseldorf - ECPv6.15.18//NONSGML v1.0//EN
CALSCALE:GREGORIAN
METHOD:PUBLISH
X-WR-CALNAME:Psychoanalytische Arbeitsgemeinschaft Köln-Düsseldorf
X-ORIGINAL-URL:https://psychoanalyse.koeln
X-WR-CALDESC:Veranstaltungen für Psychoanalytische Arbeitsgemeinschaft Köln-Düsseldorf
REFRESH-INTERVAL;VALUE=DURATION:PT1H
X-Robots-Tag:noindex
X-PUBLISHED-TTL:PT1H
BEGIN:VTIMEZONE
TZID:Europe/Berlin
BEGIN:DAYLIGHT
TZOFFSETFROM:+0100
TZOFFSETTO:+0200
TZNAME:CEST
DTSTART:20250330T010000
END:DAYLIGHT
BEGIN:STANDARD
TZOFFSETFROM:+0200
TZOFFSETTO:+0100
TZNAME:CET
DTSTART:20251026T010000
END:STANDARD
BEGIN:DAYLIGHT
TZOFFSETFROM:+0100
TZOFFSETTO:+0200
TZNAME:CEST
DTSTART:20260329T010000
END:DAYLIGHT
BEGIN:STANDARD
TZOFFSETFROM:+0200
TZOFFSETTO:+0100
TZNAME:CET
DTSTART:20261025T010000
END:STANDARD
BEGIN:DAYLIGHT
TZOFFSETFROM:+0100
TZOFFSETTO:+0200
TZNAME:CEST
DTSTART:20270328T010000
END:DAYLIGHT
BEGIN:STANDARD
TZOFFSETFROM:+0200
TZOFFSETTO:+0100
TZNAME:CET
DTSTART:20271031T010000
END:STANDARD
END:VTIMEZONE
BEGIN:VEVENT
DTSTART;TZID=Europe/Berlin:20260602T193000
DTEND;TZID=Europe/Berlin:20260602T210000
DTSTAMP:20260423T003812
CREATED:20260422T093345Z
LAST-MODIFIED:20260422T093345Z
UID:19190-1780428600-1780434000@psychoanalyse.koeln
SUMMARY:Vortrag für Studierende und Interessierte: „Werden Psychotherapeut:innen in Zukunft durch KI ersetzt?“ Psychotherapie und KI – Hilfsmittel oder Gefahr für die Zukunft?
DESCRIPTION:Eintritt: frei für Studierende und Auszubildende der PsAG.\nAndere: 10 € // Um Anmeldung wird gebeten. \nEine Einladung erfolgt jeweils gesondert. \nReferentInnen: Dr. phil. Dipl.-Psych. Michael Koenen\, Dr. phil. Dipl.-Psych. Rupert Martin
URL:https://psychoanalyse.koeln/veranstaltung/vortrag-fuer-studierende-und-interessierte-werden-psychotherapeutinnen-in-zukunft-durch-ki-ersetzt-psychotherapie-und-ki-hilfsmittel-oder-gefahr-fuer-die-zukunft/
CATEGORIES:Öffentlich,Meine Vorträge
END:VEVENT
END:VCALENDAR